BEGIN:VCALENDAR
VERSION:2.0
PRODID:-//Seelsorgeeinheit Bad Saulgau - ECPv6.11.1//NONSGML v1.0//EN
CALSCALE:GREGORIAN
METHOD:PUBLISH
X-WR-CALNAME:Seelsorgeeinheit Bad Saulgau
X-ORIGINAL-URL:https://kath-kirche-badsaulgau.de
X-WR-CALDESC:Veranstaltungen für Seelsorgeeinheit Bad Saulgau
REFRESH-INTERVAL;VALUE=DURATION:PT1H
X-Robots-Tag:noindex
X-PUBLISHED-TTL:PT1H
BEGIN:VTIMEZONE
TZID:Europe/Berlin
BEGIN:DAYLIGHT
TZOFFSETFROM:+0100
TZOFFSETTO:+0200
TZNAME:CEST
DTSTART:20250330T010000
END:DAYLIGHT
BEGIN:STANDARD
TZOFFSETFROM:+0200
TZOFFSETTO:+0100
TZNAME:CET
DTSTART:20251026T010000
END:STANDARD
END:VTIMEZONE
BEGIN:VEVENT
DTSTART;VALUE=DATE:20251103
DTEND;VALUE=DATE:20251206
DTSTAMP:20260419T152901
CREATED:20251006T120428Z
LAST-MODIFIED:20251016T091625Z
UID:33622-1762128000-1764979199@kath-kirche-badsaulgau.de
SUMMARY:Diözesanratswahl
DESCRIPTION:Endgültiger Wahlvorschlag für das Dekanat Saulgau steht! \nDie Wahl zum Zwölften Diözesanrat wird im Zeitraum vom 03. November bis 05. Dezember 2025 per Briefwahl durchgeführt. Stimmberechtigt sind alle stimmberechtigten gewählten Mitglieder der Kirchengemeinderäte bzw. die vom Bischof eingesetzten Mitglieder der Vertretungsgremien. Das Dekanat Saulgau hat einen Sitz für Laienvertreter im Diözesanrat. Der Dekanatswahlausschuss hat den endgültigen Wahlvorschlag zusammengefasst. Es gibt folgende Kandidierende: \n– Egon Oehler\, Landwirt\, Schulleiter a.D.\, Bad Saulgau Friedberg \n – Schwester M. Kathrin Prenzel\, Pastoralreferentin\, Bad Saulgau Sießen \n – Wolfgang Sekul\, Agraringenieur\, Ebersbach-Musbach \n Bei Fragen kann man sich an den Dekanatswahlausschuss wenden: 07351/8095-400 oder bjoern.held@drs.de.
URL:https://kath-kirche-badsaulgau.de/event/dioezesanratswahl
CATEGORIES:Seelsorgeeinheit
ATTACH;FMTTYPE=image/jpeg:https://kath-kirche-badsaulgau.de/wp-content/uploads/2025/10/Dioezesanratswahl.jpg
END:VEVENT
BEGIN:VEVENT
DTSTART;VALUE=DATE:20251107
DTEND;VALUE=DATE:20251108
DTSTAMP:20260419T152901
CREATED:20251024T130041Z
LAST-MODIFIED:20251024T130041Z
UID:33886-1762473600-1762559999@kath-kirche-badsaulgau.de
SUMMARY:Aktion zu St. Martin - Teilt ein Licht!
DESCRIPTION:Sankt Martin ist in jedem Jahr etwas Besonderes! An vielen Orten gibt es Laternenumzüge und wir erinnern uns daran\, wie wichtig es ist\, mit dem zu teilen\, der in Not ist. Macht mit und holt euch ab dem 7. November eine Lichtertüte in der St. Johanneskirche. Die Idee für Kinder: Ihr bemalt zwei Lichtertüten. Die eine Tüte behaltet ihr\, die andere verschenkt ihr an jemanden\, der allein ist\, krank ist\, Mut braucht oder . So könnt ihr Menschen eine Freude machen – so wie unser Diözesanpatron St. Martin\, der dem Bettler mit seinem Mantelstücke eine Freude gemacht hat.
URL:https://kath-kirche-badsaulgau.de/event/aktion-zu-st-martin-teilt-ein-licht-2
CATEGORIES:Bad Saulgau,Jugend,Seelsorgeeinheit
ATTACH;FMTTYPE=image/jpeg:https://kath-kirche-badsaulgau.de/wp-content/uploads/2025/10/Teil-Dein-Licht-St.-Martin-2025.jpg
END:VEVENT
BEGIN:VEVENT
DTSTART;VALUE=DATE:20251107
DTEND;VALUE=DATE:20251110
DTSTAMP:20260419T152901
CREATED:20251024T125851Z
LAST-MODIFIED:20251024T125851Z
UID:33883-1762473600-1762732799@kath-kirche-badsaulgau.de
SUMMARY:"Das geheime Logbuch: Von Ängsten und Mutmachern" - Ökumenische KinderBibelTage
DESCRIPTION:07. November 2024 14:00-17:00 Uhr (Evang. Gemeindehaus\, Gutenbergstr. 49) \n08. November 2024 09:00-17:00 Uhr (Evang. Gemeindehaus) \n09. November 2024 10:00 Uhr Ökumenischer Gottesdienst (Evang. Christuskirche) \nDie diesjährigen ökumenischen Kinderbibeltage haben das Thema: “ Das geheime Logbuch – von Ängsten und Mutmachern“. \nWir haben für Kinder von 5 bis 12 Jahren wieder ein tolles Programm zusammengestellt\, das Kindern hilft ihre Ängste zu verstehen und mutmachende Erlebnisse mit Jesus zu entdecken. Passende Erzählungen in kleinen Theaterstücken werden umrahmt mit viel Spiel\, Spaß\, Bastelangeboten und gemeinsames Singen. \nAnmeldung und Infos: www.evkirche-badsaulgau.de ( Name\, Alter\, Name und E-Mail der Eltern\, Notfallnummer\, Unverträglichkeiten\, Rührkuchen für Samstag: ja oder nein. Fotos\, die an den KinderBibelTagen gemacht werden\, dürfen im Gemeindebrief und in den Sozialen Medien beider Kirchengemeinden veröffentlicht werden: ja oder nein.) \nUnkostenbeitrag: 7 Euro \nEvangelische Kirchengemeinde Bad Saulgau und Seelsorgeeinheit Sankt Johannes Baptist Bad Saulgau \nPfr. Christoph Schweikle\, Sr. Angela Maria Jäger und Team \n 
URL:https://kath-kirche-badsaulgau.de/event/das-geheime-logbuch-von-aengsten-und-mutmachern-oekumenische-kinderbibeltage
CATEGORIES:Bad Saulgau,Jugend,Seelsorgeeinheit
ATTACH;FMTTYPE=image/jpeg:https://kath-kirche-badsaulgau.de/wp-content/uploads/2025/10/KinderBibelTage.jpg
END:VEVENT
BEGIN:VEVENT
DTSTART;TZID=Europe/Berlin:20251109T170000
DTEND;TZID=Europe/Berlin:20251109T183000
DTSTAMP:20260419T152901
CREATED:20251030T082931Z
LAST-MODIFIED:20251030T082931Z
UID:33906-1762707600-1762713000@kath-kirche-badsaulgau.de
SUMMARY:Jahreskonzert der St. Johannes Chorknaben
DESCRIPTION:Am Sonntag\, 9. November findet um 17:00 Uhr in der Stadtparrkirche St. Johannes Baptist Bad Saulgau das Jahreskonzert der St. Johannes-Chorknaben statt.  \nAls Hauptwerk des Konzerts hat Chorleiter Volker Braig die „Große Credomesse“ von Wolfgang Amadeus Mozart ausgewählt\, zudem erklingt unter anderem das große „Magnificat“ von Franz Schubert. Mit den St. Johannes-Chorknaben musizieren das hochkarätige Solistenquartett Dorothée Babst (Sopran)\, Katharina Guglhör (Alt)\, Daniel Ostermaier (Tenor) und Markus Simon (Bass) sowie das hervorragende\, auf historische Aufführungspraxis spezialisierte Orchester „La Banda“. \nKartenvorverkauf: \nKonzertkarten sind im Vorverkauf in der Schwaaz Vere-Buchhandlung Bad Saulgau (Telefon 07581 / 2289) erhältlich (Mittelschiff 20€ / Seitenschiff 12€; ermäßigte Karten für Schüler und Studenten: 14€ / 8€).
URL:https://kath-kirche-badsaulgau.de/event/jahreskonzert-der-st-johannes-chorknaben
CATEGORIES:Bad Saulgau,Bolstern,Braunenweiler,Friedberg,Fulgenstadt,Hochberg,Jugend,Moosheim,Renhardsweiler,Seelsorgeeinheit
ATTACH;FMTTYPE=image/jpeg:https://kath-kirche-badsaulgau.de/wp-content/uploads/2025/10/ChorJahreskonzert_2025_StadtjournalHP.jpg
END:VEVENT
BEGIN:VEVENT
DTSTART;TZID=Europe/Berlin:20251120T100000
DTEND;TZID=Europe/Berlin:20251120T113000
DTSTAMP:20260419T152901
CREATED:20251024T130210Z
LAST-MODIFIED:20251024T130336Z
UID:33889-1763632800-1763638200@kath-kirche-badsaulgau.de
SUMMARY:Krabbelkirche im Kloster
DESCRIPTION:Herzliche Einladung am 20. November und am 11. Dezember jeweils von 10:00-11:30 Uhr zur Krabbelkirche im Kloster bei Kaba und Kuchen. \nAlter: 0-3 Jahre. \nOrt: Barocksaal im Kloster Sießen. Der Eingang ist bei der Pforte gegenüber der Kapelle.
URL:https://kath-kirche-badsaulgau.de/event/krabbelkirche-im-kloster-2
CATEGORIES:Bad Saulgau,Seelsorgeeinheit
ATTACH;FMTTYPE=image/jpeg:https://kath-kirche-badsaulgau.de/wp-content/uploads/2025/10/Krabbelkirche-November-2025.jpg
END:VEVENT
BEGIN:VEVENT
DTSTART;TZID=Europe/Berlin:20251120T180000
DTEND;TZID=Europe/Berlin:20251120T200000
DTSTAMP:20260419T152901
CREATED:20251117T081755Z
LAST-MODIFIED:20251117T082026Z
UID:34078-1763661600-1763668800@kath-kirche-badsaulgau.de
SUMMARY:Erstkommunion 2026 - Elternabend
DESCRIPTION:Der erste Elternabend für die Eltern der Erstkommunionkinder 2026 findet am Donnerstag\, 20.11.2025 im Kath. Gemeindehaus statt. \n 
URL:https://kath-kirche-badsaulgau.de/event/erstkommunion-2026-elterabend
CATEGORIES:Bad Saulgau,Bolstern,Braunenweiler,Friedberg,Fulgenstadt,Hochberg,Moosheim,Renhardsweiler,Seelsorgeeinheit,Sießen,Wolfartsweiler
ATTACH;FMTTYPE=image/jpeg:https://kath-kirche-badsaulgau.de/wp-content/uploads/2025/11/ElternabendHP.jpg
END:VEVENT
BEGIN:VEVENT
DTSTART;VALUE=DATE:20251130
DTEND;VALUE=DATE:20251222
DTSTAMP:20260419T152901
CREATED:20251107T082228Z
LAST-MODIFIED:20251110T073256Z
UID:33997-1764460800-1766361599@kath-kirche-badsaulgau.de
SUMMARY:Zusammenkommen und Innehalten im Advent
DESCRIPTION:In unserem Team für die Gestaltung des Krippenweges am 24. Dezember kam uns die Idee\, dass wir gerne in diesem Jahr an den Adventssonntagen jeweils um 16:00 Uhr bis ca. 16:30/16:45 Uhr Kinder\, Familien und alle Interessierte einladen würden zusammenzukommen\, gemeinsam Adventslieder zu singen und es gibt einen kleinen Impuls zu einer biblischen Figur der Weihnachtserzählung und schöne musikalische Akzente. Treffpunkt ist im Garten vom Pflegeheim St. Antonius\, in Richtung der Antoniuskirche. Die Kinder erhalten bei der Aktion jeweils ein Fensterbild mit der entsprechenden Figur. Im Laufe der Adventszeit entsteht beim Pflegeheim und an Euren Fenstern eine Krippe. Ziel ist es in der oft stressigen Adventszeit Räume zu schaffen in denen Menschen zur Ruhe und Besinnung finden können und verschiedene Gruppen\, Vereine und Initiativen in der Stadt zu vernetzen. So können auch die BewohnerInnen des Hauses an der Aktion teilnehmen. Bitte bringt eine Laterne oder eine Lichterkette mit. Zu Beginn sind die Lampen und Lichterketten noch aus. Wir werden sie dann jeweils immer gemeinsam entzünden. \n  \nTermine:  \n\nAdventssonntag\, 30.11. 2025\, 16:00 Uhr „Hl. Josef“ mit der Erwachsenen Bläserklasse.\nAdventssonntag\, 07.12.2025\, 16:00 Uhr „Hl. Maria“.\nAdvenstsonntag\, 14.12. 2025\, 16:00 Uhr „Engel“ mit einer Gruppe der Mädchenkantorei. Mit einem Akzent für Kinder mit Handicap.\nAdventssonntag\, 21.12.2025 16:00 Uhr „Hirte“ mit dem Kinderchor Donau-Lerchen.\n\n 
URL:https://kath-kirche-badsaulgau.de/event/zusammenkommen-und-innehalten-im-advent
CATEGORIES:Bad Saulgau,Bolstern,Braunenweiler,Friedberg,Fulgenstadt,Hochberg,Jugend,Moosheim,Renhardsweiler,Seelsorgeeinheit,Sießen,Wolfartsweiler
ATTACH;FMTTYPE=image/jpeg:https://kath-kirche-badsaulgau.de/wp-content/uploads/2025/11/Neue-Version-Adventsatkion-2025HP-klein.jpg
END:VEVENT
END:VCALENDAR