BEGIN:VCALENDAR
VERSION:2.0
PRODID:-//Seelsorgeeinheit Bad Saulgau - ECPv6.11.1//NONSGML v1.0//EN
CALSCALE:GREGORIAN
METHOD:PUBLISH
X-WR-CALNAME:Seelsorgeeinheit Bad Saulgau
X-ORIGINAL-URL:https://kath-kirche-badsaulgau.de
X-WR-CALDESC:Veranstaltungen für Seelsorgeeinheit Bad Saulgau
REFRESH-INTERVAL;VALUE=DURATION:PT1H
X-Robots-Tag:noindex
X-PUBLISHED-TTL:PT1H
BEGIN:VTIMEZONE
TZID:Europe/Berlin
BEGIN:DAYLIGHT
TZOFFSETFROM:+0100
TZOFFSETTO:+0200
TZNAME:CEST
DTSTART:20250330T010000
END:DAYLIGHT
BEGIN:STANDARD
TZOFFSETFROM:+0200
TZOFFSETTO:+0100
TZNAME:CET
DTSTART:20251026T010000
END:STANDARD
END:VTIMEZONE
BEGIN:VEVENT
DTSTART;TZID=Europe/Berlin:20250601T110000
DTEND;TZID=Europe/Berlin:20250601T170000
DTSTAMP:20260421T131229
CREATED:20250522T133547Z
LAST-MODIFIED:20250522T134657Z
UID:32223-1748775600-1748797200@kath-kirche-badsaulgau.de
SUMMARY:Happy Family Day am 01. Juni 2025 – Wir sind dabei!
DESCRIPTION:Um 10:30 Uhr findet in St. Johannes ein ökumenischer Eröffnungsgottesdienst für Familien satt. Beim Gottesdienst zum diesjährigen Umwelt- und Familientag steht der Sonnengesang des Hl. Franziskus von Assisi im Mittelpunkt\, den er vor 800 Jahren geschrieben hat. \nVon 11:00-17:00 Uhr findet ihr den Stand der Evangelischen und Katholischen Kirche direkt an der St. Johanneskirche auf dem Marktplatz. \nEs gibt tolle Kreativ- und Spielangebote für Kinder und Jugendliche! Wir freuen uns auf die Begegnungen.
URL:https://kath-kirche-badsaulgau.de/event/happy-family-day-am-01-juni-2025-wir-sind-dabei
CATEGORIES:Bad Saulgau,Jugend,Seelsorgeeinheit
ATTACH;FMTTYPE=image/jpeg:https://kath-kirche-badsaulgau.de/wp-content/uploads/2025/05/Happy-Familiy-Day-HP.jpg
END:VEVENT
END:VCALENDAR