BEGIN:VCALENDAR
VERSION:2.0
PRODID:-//Seelsorgeeinheit Bad Saulgau - ECPv6.11.1//NONSGML v1.0//EN
CALSCALE:GREGORIAN
METHOD:PUBLISH
X-WR-CALNAME:Seelsorgeeinheit Bad Saulgau
X-ORIGINAL-URL:https://kath-kirche-badsaulgau.de
X-WR-CALDESC:Veranstaltungen für Seelsorgeeinheit Bad Saulgau
REFRESH-INTERVAL;VALUE=DURATION:PT1H
X-Robots-Tag:noindex
X-PUBLISHED-TTL:PT1H
BEGIN:VTIMEZONE
TZID:Europe/Berlin
BEGIN:DAYLIGHT
TZOFFSETFROM:+0100
TZOFFSETTO:+0200
TZNAME:CEST
DTSTART:20250330T010000
END:DAYLIGHT
BEGIN:STANDARD
TZOFFSETFROM:+0200
TZOFFSETTO:+0100
TZNAME:CET
DTSTART:20251026T010000
END:STANDARD
END:VTIMEZONE
BEGIN:VEVENT
DTSTART;VALUE=DATE:20250310
DTEND;VALUE=DATE:20250408
DTSTAMP:20260421T172102
CREATED:20250123T094017Z
LAST-MODIFIED:20250123T094933Z
UID:30775-1741564800-1744070399@kath-kirche-badsaulgau.de
SUMMARY:Exerzitien im Alltag
DESCRIPTION:„Du führst mich hinaus ins Weite“ – Informationsabend zu geistlichem Weg in der Fastenzeit \nDie Dekanate Biberach und Saulgau laden in der kommenden Fastenzeit herzlich zu „Exerzitien im Alltag“ ein. Exerzitien sind „geistliche Übungen“\, die uns inspirieren wollen\, Gottes Gegenwart und Wirken im eigenen Leben auf die Spur zu kommen. Impulse\, Stille\, Gebet\, Musik und Kreatives sind Elemente dieser vierwöchigen Exerzitien. Sie stehen unter dem Leitwort „Du führst mich hinaus ins Weite“. Beginn ist am Montag\, 10.03.2024 um 19.30 Uhr im DGH Renhardsweiler. Die begleitenden Wochentreffen finden am 17.03.\, 24.03.\, 31.03. und 07.04.2025 um 19.30 Uhr statt. Hier bekommen Sie Impulse und neues Material für die tägliche Gebetszeit zuhause und Raum zum Austausch in der Gruppe. Außerdem hat jede/r die Möglichkeit zu Einzelgesprächen mit dem Kursleiter Björn Held (Dekanatsreferent\, geistlicher Begleiter) oder Schwester Ursula Hedrich (Klinikseelsorgerin\, geistliche Begleiterin). Der Kurs richtet sich an alle\, die neue Impulse und Anregungen für ihren Glauben suchen. Am 10.02.2025 findet um 19.30 Uhr ein Informationsabend im DGH Renhardsweiler (Steinbronner Kirchweg 2) statt\, an dem Ihnen alles Wesentliche erklärt wird. Die Anmeldung zum Exerzitienweg ist bis 05.03.2025 beim Dekanat unter dekanat.biberach@drs.de oder 07351/8095-400 (max. 18 Personen) möglich. Der TN-Beitrag ist 10 €. Für weitere Infos können Sie sich gerne an Björn Held (bjoern.held@drs.de oder 07351/8095-400) wenden. \n \n 
URL:https://kath-kirche-badsaulgau.de/event/exerzitien-im-alltag
CATEGORIES:Bad Saulgau,Bolstern,Braunenweiler,Friedberg,Fulgenstadt,Hochberg,Moosheim,Renhardsweiler,Seelsorgeeinheit,Sießen,Wolfartsweiler
ATTACH;FMTTYPE=image/jpeg:https://kath-kirche-badsaulgau.de/wp-content/uploads/2025/01/Aushang-Exerzitien-im-Alltag-2025-kleinHP.jpg
END:VEVENT
BEGIN:VEVENT
DTSTART;VALUE=DATE:20250330
DTEND;VALUE=DATE:20250331
DTSTAMP:20260421T172102
CREATED:20241210T104450Z
LAST-MODIFIED:20250320T102255Z
UID:30367-1743292800-1743379199@kath-kirche-badsaulgau.de
SUMMARY:Kirchengemeinderatswahl 2025
DESCRIPTION:Gläubige gestalten Zukunft \nDekan Peter Müller: „Gelebte Mitverantwortung der Gläubigen“ \nBad Saulgau. Für die Katholikinnen und Katholiken im Dekanat Saulgau kündigt sich ein bedeutender Termin an: Am Sonntag\, 30. März\, wählen sie ihre Kirchengemeinderäte. „Der Kirchengemeinderat ist ein unverzichtbares Gremium der gelebten Mitverantwortung der Gläubigen in der Kirche“\, sagt der Saulgauer Dekan Peter Müller. „Die Mitglieder des Gremiums prägen\, gestalten und repräsentieren das kirchliche Leben vor Ort. Engagiert wirkt der Kirchengemeinderat an einer lebendigen Kirche mit und übernimmt Verantwortung für die Zukunft der Kirchengemeinde.“ \nNachdem die Wahl vor fünf Jahren wegen der Coronapandemie unter erschwerten Bedingungen als reine Briefwahl ohne Wahlraum stattfand hoffe er\, dass auch in diesem Jahr wieder eine große Zahl von Kirchenmitgliedern wählen geht. Und Dekan Müller erläutert: „Der Kirchengemeinderat ging aus der Zweiten Vatikanischen Konzil (1962-1965) hervor\, dessen Anliegen es war\, das Laienapostolat zu fördern. Dieses Gremium bringt zum Ausdruck\, dass alle Gläubigen miteinander Verantwortung für die Gemeinde und die Seelsorge tragen. Schon 1968 wurden in der Diözese Rottenburg-Stuttgart zum ersten Mal Kirchengemeinderäte gewählt. Seitdem ist der Kirchengemeinderat\, dem der Pfarrer und der/die Gewählte Vorsitzende als Doppelspitze vorstehen\, für die Kirchengemeinde verantwortlich.“ Der Kirchengemeinderat vereine dabei drei Aufgaben: Er vertritt die Katholiken vor Ort\, er entscheidet über die pastoralen Schwerpunkte und über die Richtung\, die die Entwicklung des Gemeindelebens nehmen soll\, und gleichzeitig entscheidet er über den jährlichen Haushaltsplan und die Verwendung der finanziellen Mittel vor Ort. \nMitglieder der Kirchengemeinden ab 16 Jahren dürfen den Kirchengemeinderat wählen. In den 30 Kirchengemeinden des Dekanats leben 28400 Katholikinnen und Katholiken\, wovon rund 23.000 wahlberechtigt sind. Bei der anstehenden Wahl kann in 29 Kirchengemeinden sicher gewählt werden. Sie haben genügend Kandidierende oder führen eine Wahl ohne Bindung durch. Insgesamt kandidieren 228 Personen für die KGR-Wahl 2025. In einer Gemeinde kann nicht gewählt werden. \nDekan Müller bittet die Katholikinnen und Katholiken\, das Engagement der Kandidierenden zu unterstützen und wählen zu gehen. \nDie Diözese Rottenburg-Stuttgart umfasst mit ihren 1.019 Kirchengemeinden und 1\,6 Millionen Mitgliedern den württembergischen Landesteil Baden-Württembergs\, und ist bundesweit die drittgrößte Diözese. Seit dem Jahr 2024 steht ihr Dr. Klaus Krämer als Bischof vor. Unter dem Dach der Diözese leisten 24.000 Haupt- und 170.000 Ehrenamtliche ihren Dienst für die Menschen und legen so Zeugnis ab vom lebendigen Gott. Auf dem Gebiet der Diözese stehen rund 900 Kindergärten in katholischer Trägerschaft und bieten rund 56.600 Kindern eine Betreuung; rund 100 katholische Schulen werden von 30.000 Schülern besucht\, und in 849 karitativen Einrichtungen finden rund 467.800 Menschen eine Betreuung. Im Rahmen des weltkirchlichen Engagements gibt es Partnerschaften mit Diözesen in über 80 Ländern weltweit. Aktuelles sowie Hintergründe bietet die Homepage www.drs.de \nPostings zu allen Aspekten des vielfältigen kirchlichen Lebens in der Diözese gibt es hier: \n  \n  \nwww.facebook.com/drs.news\nwww.youtube.com/user/DRSMedia\nwww.instagram.com/dioezese_rs/\nhttps://soundcloud.com/rottenburg-stuttgart
URL:https://kath-kirche-badsaulgau.de/event/kirchengemeinderatswahl-2025
CATEGORIES:Bad Saulgau,Seelsorgeeinheit
ATTACH;FMTTYPE=image/jpeg:https://kath-kirche-badsaulgau.de/wp-content/uploads/2024/12/Komm-entscheide-mit.jpg
END:VEVENT
END:VCALENDAR