BEGIN:VCALENDAR
VERSION:2.0
PRODID:-//Seelsorgeeinheit Bad Saulgau - ECPv6.11.1//NONSGML v1.0//EN
CALSCALE:GREGORIAN
METHOD:PUBLISH
X-WR-CALNAME:Seelsorgeeinheit Bad Saulgau
X-ORIGINAL-URL:https://kath-kirche-badsaulgau.de
X-WR-CALDESC:Veranstaltungen für Seelsorgeeinheit Bad Saulgau
REFRESH-INTERVAL;VALUE=DURATION:PT1H
X-Robots-Tag:noindex
X-PUBLISHED-TTL:PT1H
BEGIN:VTIMEZONE
TZID:Europe/Berlin
BEGIN:DAYLIGHT
TZOFFSETFROM:+0100
TZOFFSETTO:+0200
TZNAME:CEST
DTSTART:20250330T010000
END:DAYLIGHT
BEGIN:STANDARD
TZOFFSETFROM:+0200
TZOFFSETTO:+0100
TZNAME:CET
DTSTART:20251026T010000
END:STANDARD
END:VTIMEZONE
BEGIN:VEVENT
DTSTART;TZID=Europe/Berlin:20250216T170000
DTEND;TZID=Europe/Berlin:20250216T180000
DTSTAMP:20260421T183328
CREATED:20250129T102845Z
LAST-MODIFIED:20250129T102845Z
UID:30832-1739725200-1739728800@kath-kirche-badsaulgau.de
SUMMARY:Segensgottesdienst für Paare und alle die sich lieben
DESCRIPTION:Am Sonntag 16.02.2025 findet zeitnah zum Valentinstag ein Segensgottesdienst für Paare und alle\, die sich lieben statt. Eingeladen sind Paare\, Familien\, Verliebte\, Junge wie Alte… aber auch jene\, die es gerade nicht so leicht miteinander haben. \nBeginn ist um 17.00 Uhr in der Kirche St. Johannes in Bad Saulgau. Die Feier steht unter dem Motto „Da berühren sich Himmel und Erde“ und sie wird musikalisch mitgestaltet von der Chorband „AmaDeus“. Herzlich willkommen!
URL:https://kath-kirche-badsaulgau.de/event/segensgottesdienst-fuer-paare-und-alle-die-sich-lieben-2
CATEGORIES:Bad Saulgau,Bolstern,Braunenweiler,Friedberg,Fulgenstadt,Hochberg,Moosheim,Renhardsweiler,Seelsorgeeinheit
ATTACH;FMTTYPE=image/jpeg:https://kath-kirche-badsaulgau.de/wp-content/uploads/2025/01/Segensgottesdienst-2025-AusschnittHP.jpg
END:VEVENT
BEGIN:VEVENT
DTSTART;TZID=Europe/Berlin:20250220T100000
DTEND;TZID=Europe/Berlin:20250220T113000
DTSTAMP:20260421T183328
CREATED:20250130T090855Z
LAST-MODIFIED:20250130T090855Z
UID:30836-1740045600-1740051000@kath-kirche-badsaulgau.de
SUMMARY:Krabbelkirche im Kloster Sießen
DESCRIPTION:Herzliche Einladung an 20. Februar um 10:00 Uhr zur Krabbelkirche im Kloster bei Kaba und Kuchen. \nAlter: 0-3 Jahre. Ort: Barocksaal Kloster Sießen. \nSr. Angela María \nInfos und Fragen: sr.angelamaria@klostersiessen.de Telefon: 07581/ 20-217
URL:https://kath-kirche-badsaulgau.de/event/krabbelkirche-im-kloster-siessen-2
CATEGORIES:Bad Saulgau,Bolstern,Braunenweiler,Friedberg,Fulgenstadt,Hochberg,Jugend,Moosheim,Renhardsweiler,Seelsorgeeinheit,Sießen,Wolfartsweiler
ATTACH;FMTTYPE=image/jpeg:https://kath-kirche-badsaulgau.de/wp-content/uploads/2025/01/Stadtjournal-KrabbelkircheHP.jpg
END:VEVENT
BEGIN:VEVENT
DTSTART;TZID=Europe/Berlin:20250223T110000
DTEND;TZID=Europe/Berlin:20250223T140000
DTSTAMP:20260421T183328
CREATED:20250130T091246Z
LAST-MODIFIED:20250130T091415Z
UID:30840-1740308400-1740319200@kath-kirche-badsaulgau.de
SUMMARY:Familientag im Kloster Sießen
DESCRIPTION:Sonntag \, 23. Februar 2025 . Beginn 11:00 Uhr mit Spiel und Kreativzeit auf dem Gelände. 12:30 Uhr kreativer Wortgottesdienst. \n13:15 Uhr gemeinsames Essen (Leberkäswecken und vegetarische Alternative.) Ende: 14:00 Uhr. \nBitte mitbringen: Getränke und Sonnenschutz. Ort: Kloster Sießen.
URL:https://kath-kirche-badsaulgau.de/event/familientag-im-kloster-siessen
CATEGORIES:Bad Saulgau,Bolstern,Braunenweiler,Friedberg,Fulgenstadt,Hochberg,Jugend,Moosheim,Renhardsweiler,Seelsorgeeinheit,Sießen,Wolfartsweiler
ATTACH;FMTTYPE=image/jpeg:https://kath-kirche-badsaulgau.de/wp-content/uploads/2025/01/Familientag.jpg
END:VEVENT
END:VCALENDAR