BEGIN:VCALENDAR
VERSION:2.0
PRODID:-//Seelsorgeeinheit Bad Saulgau - ECPv6.11.1//NONSGML v1.0//EN
CALSCALE:GREGORIAN
METHOD:PUBLISH
X-ORIGINAL-URL:https://kath-kirche-badsaulgau.de
X-WR-CALDESC:Veranstaltungen für Seelsorgeeinheit Bad Saulgau
REFRESH-INTERVAL;VALUE=DURATION:PT1H
X-Robots-Tag:noindex
X-PUBLISHED-TTL:PT1H
BEGIN:VTIMEZONE
TZID:Europe/Berlin
BEGIN:DAYLIGHT
TZOFFSETFROM:+0100
TZOFFSETTO:+0200
TZNAME:CEST
DTSTART:20250330T010000
END:DAYLIGHT
BEGIN:STANDARD
TZOFFSETFROM:+0200
TZOFFSETTO:+0100
TZNAME:CET
DTSTART:20251026T010000
END:STANDARD
END:VTIMEZONE
BEGIN:VEVENT
DTSTART;VALUE=DATE:20250712
DTEND;VALUE=DATE:20250713
DTSTAMP:20260425T212612
CREATED:20240612T144737Z
LAST-MODIFIED:20240613T082513Z
UID:28597-1752278400-1752278400@kath-kirche-badsaulgau.de
SUMMARY:Firmung 2025
DESCRIPTION:
URL:https://kath-kirche-badsaulgau.de/event/firmung-2025
CATEGORIES:Bad Saulgau,Bolstern,Braunenweiler,Friedberg,Fulgenstadt,Hochberg,Jugend,Moosheim,Renhardsweiler,Seelsorgeeinheit,Sießen,Wolfartsweiler
ATTACH;FMTTYPE=image/jpeg:https://kath-kirche-badsaulgau.de/wp-content/uploads/2024/06/Firmung-25-Stadtjournal.jpg
END:VEVENT
END:VCALENDAR