BEGIN:VCALENDAR
VERSION:2.0
PRODID:-//Seelsorgeeinheit Bad Saulgau - ECPv6.11.1//NONSGML v1.0//EN
CALSCALE:GREGORIAN
METHOD:PUBLISH
X-ORIGINAL-URL:https://kath-kirche-badsaulgau.de
X-WR-CALDESC:Veranstaltungen für Seelsorgeeinheit Bad Saulgau
REFRESH-INTERVAL;VALUE=DURATION:PT1H
X-Robots-Tag:noindex
X-PUBLISHED-TTL:PT1H
BEGIN:VTIMEZONE
TZID:Europe/Berlin
BEGIN:DAYLIGHT
TZOFFSETFROM:+0100
TZOFFSETTO:+0200
TZNAME:CEST
DTSTART:20250330T010000
END:DAYLIGHT
BEGIN:STANDARD
TZOFFSETFROM:+0200
TZOFFSETTO:+0100
TZNAME:CET
DTSTART:20251026T010000
END:STANDARD
END:VTIMEZONE
BEGIN:VEVENT
DTSTART;TZID=Europe/Berlin:20251031T170000
DTEND;TZID=Europe/Berlin:20251031T190000
DTSTAMP:20260419T165512
CREATED:20251015T085351Z
LAST-MODIFIED:20251015T113239Z
UID:33733-1761930000-1761937200@kath-kirche-badsaulgau.de
SUMMARY:„Daniel – das Musical“  Musik\, Gesang und Theater für die ganze Familie
DESCRIPTION:Am Freitag\, 31.10.2025 17:00 Uhr präsentiert die Gemeinschaft Immanuel Ravensburg im Dorfgemeinschaftshaus Renhardsweiler das Kinder-und Jugendmusical „Daniel- das Musical“. Rund 40 Kinder und Jugendliche erzählen die Geschichte des Propheten Daniel\, der mit seinem Volk nach Babylon verschleppt wird und dort durch seinen Mut\, seine Weisheit wie auch durch seine Gabe\, Rätsel zu lösen\, Träume zu deuten und Ereignisse zu prophezeien\, bestehen kann. Ein Lebensbeispiel und Vorbild auch für junge Menschen von heute\, die in einem nicht- oder andersgläubigen Umfeld ihren Glauben\, ihr Christsein leben wollen. \nVeranstalter des Musicals ist die Kirchengemeinde Renhardsweiler. Die ab einem Alter von 5 Jahren empfohlene Aufführung dauert inklusive einer Pause zwei Stunden. Saaleinlass ist 30 Minuten vor der Aufführung. Der Eintritt ist frei\, um eine Spende wird gebeten. \n \n 
URL:https://kath-kirche-badsaulgau.de/event/daniel-das-musical-musik-gesang-und-theater-fuer-die-ganze-familie
CATEGORIES:Bad Saulgau,Jugend,Renhardsweiler,Seelsorgeeinheit
ATTACH;FMTTYPE=image/jpeg:https://kath-kirche-badsaulgau.de/wp-content/uploads/2025/10/Daniel-Musical-2025-Plakat-Web-VersionHP.jpg
END:VEVENT
END:VCALENDAR