BEGIN:VCALENDAR
VERSION:2.0
PRODID:-//Seelsorgeeinheit Bad Saulgau - ECPv6.11.1//NONSGML v1.0//EN
CALSCALE:GREGORIAN
METHOD:PUBLISH
X-ORIGINAL-URL:https://kath-kirche-badsaulgau.de
X-WR-CALDESC:Veranstaltungen für Seelsorgeeinheit Bad Saulgau
REFRESH-INTERVAL;VALUE=DURATION:PT1H
X-Robots-Tag:noindex
X-PUBLISHED-TTL:PT1H
BEGIN:VTIMEZONE
TZID:Europe/Berlin
BEGIN:DAYLIGHT
TZOFFSETFROM:+0100
TZOFFSETTO:+0200
TZNAME:CEST
DTSTART:20250330T010000
END:DAYLIGHT
BEGIN:STANDARD
TZOFFSETFROM:+0200
TZOFFSETTO:+0100
TZNAME:CET
DTSTART:20251026T010000
END:STANDARD
END:VTIMEZONE
BEGIN:VEVENT
DTSTART;TZID=Europe/Berlin:20251012T080000
DTEND;TZID=Europe/Berlin:20251012T120000
DTSTAMP:20260419T181128
CREATED:20251002T083909Z
LAST-MODIFIED:20251002T083909Z
UID:33564-1760256000-1760270400@kath-kirche-badsaulgau.de
SUMMARY:Pilgerweg und Gedenkgottesdienst zum 85. Todestag von Josef Ruf
DESCRIPTION:Am Sonntag\, 12. Oktober gedenken wir auf einem Pilgerweg von Hochberg nach Bad Saulgau und einem Gottesdienst in der Stadtpfarrkirche Bad Saulgau des in Hochberg geborenen Kriegsdienstverweigerers Josef Ruf\, der am 10. Oktober 1940 wegen so genannter „Wehrkraftzersetzung“ in Brandenburg-Görden hingerichtet wurde. 1999 wurde er als einziger namentlich bekannter katholischer Kriegsdienstverweigerer in der Diözese Rottenburg-Stuttgart in das Verzeichnis der Märtyrer aufgenommen. Josef Ruf war 1925 in Gorheim dem Franziskanerorden beigetreten. Von 1930 bis 1932 arbeitete er im „Klösterle“. Das „Ewige Gelübde“ legte er aber nicht ab\, sondern trat 1933 dem Christkönigsinstitut Meitingen bei. Zum 85. Todestag von Josef Ruf wird Christian Turrey von der Internationalen Kath. Friedensbewegung Pax Christi zu Gast sein und im Gottesdienst die Predigt halten. \n08:00 Uhr Pilgerweg von Hochberg nach Bad Saulgau mit folgenden Stationen: Pfarrkirche Hochberg\, Gedenkstein\, Blick auf Bahnhof\, Klösterle\, Wohnhaus der Familie Ruf in Saulgau \n10:30 Uhr Gedenkgottesdienst mit Pax Christi in der Stadtpfarrkirche Bad Saulgau
URL:https://kath-kirche-badsaulgau.de/event/pilgerweg-und-gedenkgottesdienst-zum-85-todestag-von-josef-ruf
CATEGORIES:Bad Saulgau,Hochberg,Seelsorgeeinheit
ATTACH;FMTTYPE=image/jpeg:https://kath-kirche-badsaulgau.de/wp-content/uploads/2025/10/Josef-Ruf-Gedenkstein-scaled.jpg
END:VEVENT
END:VCALENDAR