BEGIN:VCALENDAR
VERSION:2.0
PRODID:-//Seelsorgeeinheit Bad Saulgau - ECPv6.11.1//NONSGML v1.0//EN
CALSCALE:GREGORIAN
METHOD:PUBLISH
X-WR-CALNAME:Seelsorgeeinheit Bad Saulgau
X-ORIGINAL-URL:https://kath-kirche-badsaulgau.de
X-WR-CALDESC:Veranstaltungen für Seelsorgeeinheit Bad Saulgau
REFRESH-INTERVAL;VALUE=DURATION:PT1H
X-Robots-Tag:noindex
X-PUBLISHED-TTL:PT1H
BEGIN:VTIMEZONE
TZID:Europe/Berlin
BEGIN:DAYLIGHT
TZOFFSETFROM:+0100
TZOFFSETTO:+0200
TZNAME:CEST
DTSTART:20250330T010000
END:DAYLIGHT
BEGIN:STANDARD
TZOFFSETFROM:+0200
TZOFFSETTO:+0100
TZNAME:CET
DTSTART:20251026T010000
END:STANDARD
END:VTIMEZONE
BEGIN:VEVENT
DTSTART;VALUE=DATE:20250524
DTEND;VALUE=DATE:20250525
DTSTAMP:20260421T155004
CREATED:20250430T135749Z
LAST-MODIFIED:20250430T135749Z
UID:31982-1748044800-1748131199@kath-kirche-badsaulgau.de
SUMMARY:Ehevorbereitungskurs 2025 - Ja\, mit Dir möchte ich leben
DESCRIPTION:Ja\, mit Dir möchte ich leben! \nUnter diesem Motto findet am Samstag\, den 24.Mai ein Ehevorbereitungskurs rund um das Jordanbad mit Stefanie und Robert Gerner statt. Die Vorbereitung der Trauung ist eine spannende Zeit. Vieles ist zu tun\, Organisatorisches steht oft im Vordergrund. In einem Ehevorbereitungseminar soll das Paar selbst im Mittelpunkt stehen. Eigene Wünsche und Erwartungen an die Partnerschaft können mit anderen Brautpaaren und den beiden Referenten reflektiert werden. Erlebnispädagogische Elemente und Begegnungen nehmen das künftige Leben mit all seinen Facetten in den Blick. \nAnmeldung bis zum 19.5.25 beim Katholischen Dekanat Biberach Tel.: 07351/8095400 oder dekanat.biberach@drs.de
URL:https://kath-kirche-badsaulgau.de/event/ehevorbereitungskurs-2025-ja-mit-dir-moechte-ich-leben
CATEGORIES:Seelsorgeeinheit
ATTACH;FMTTYPE=image/jpeg:https://kath-kirche-badsaulgau.de/wp-content/uploads/2025/04/EhevorbereitungHP.jpg
END:VEVENT
END:VCALENDAR