BEGIN:VCALENDAR
VERSION:2.0
PRODID:-//Seelsorgeeinheit Bad Saulgau - ECPv6.11.1//NONSGML v1.0//EN
CALSCALE:GREGORIAN
METHOD:PUBLISH
X-WR-CALNAME:Seelsorgeeinheit Bad Saulgau
X-ORIGINAL-URL:https://kath-kirche-badsaulgau.de
X-WR-CALDESC:Veranstaltungen für Seelsorgeeinheit Bad Saulgau
REFRESH-INTERVAL;VALUE=DURATION:PT1H
X-Robots-Tag:noindex
X-PUBLISHED-TTL:PT1H
BEGIN:VTIMEZONE
TZID:Europe/Berlin
BEGIN:DAYLIGHT
TZOFFSETFROM:+0100
TZOFFSETTO:+0200
TZNAME:CEST
DTSTART:20250330T010000
END:DAYLIGHT
BEGIN:STANDARD
TZOFFSETFROM:+0200
TZOFFSETTO:+0100
TZNAME:CET
DTSTART:20251026T010000
END:STANDARD
END:VTIMEZONE
BEGIN:VEVENT
DTSTART;TZID=Europe/Berlin:20250501T103000
DTEND;TZID=Europe/Berlin:20250501T170000
DTSTAMP:20260421T154942
CREATED:20250417T093123Z
LAST-MODIFIED:20250417T093123Z
UID:31884-1746095400-1746118800@kath-kirche-badsaulgau.de
SUMMARY:Kinderfranziskusfest
DESCRIPTION:
URL:https://kath-kirche-badsaulgau.de/event/kinderfranziskusfest-2
CATEGORIES:Bad Saulgau,Bolstern,Braunenweiler,Friedberg,Fulgenstadt,Hochberg,Jugend,Moosheim,Renhardsweiler,Seelsorgeeinheit,Sießen,Wolfartsweiler
ATTACH;FMTTYPE=image/jpeg:https://kath-kirche-badsaulgau.de/wp-content/uploads/2025/04/Kinderfranziskusfest-2025-klein-HP.jpg
END:VEVENT
END:VCALENDAR