BEGIN:VCALENDAR
VERSION:2.0
PRODID:-//Seelsorgeeinheit Bad Saulgau - ECPv6.11.1//NONSGML v1.0//EN
CALSCALE:GREGORIAN
METHOD:PUBLISH
X-ORIGINAL-URL:https://kath-kirche-badsaulgau.de
X-WR-CALDESC:Veranstaltungen für Seelsorgeeinheit Bad Saulgau
REFRESH-INTERVAL;VALUE=DURATION:PT1H
X-Robots-Tag:noindex
X-PUBLISHED-TTL:PT1H
BEGIN:VTIMEZONE
TZID:Europe/Berlin
BEGIN:DAYLIGHT
TZOFFSETFROM:+0100
TZOFFSETTO:+0200
TZNAME:CEST
DTSTART:20250330T010000
END:DAYLIGHT
BEGIN:STANDARD
TZOFFSETFROM:+0200
TZOFFSETTO:+0100
TZNAME:CET
DTSTART:20251026T010000
END:STANDARD
END:VTIMEZONE
BEGIN:VEVENT
DTSTART;TZID=Europe/Berlin:20250418T093000
DTEND;TZID=Europe/Berlin:20250418T103000
DTSTAMP:20260421T171149
CREATED:20250407T090736Z
LAST-MODIFIED:20250407T090736Z
UID:31697-1744968600-1744972200@kath-kirche-badsaulgau.de
SUMMARY:Kinderkreuzweg
DESCRIPTION:„Jesus gibt die Hoffnung nicht auf“
URL:https://kath-kirche-badsaulgau.de/event/kinderkreuzweg-2
CATEGORIES:Bad Saulgau,Seelsorgeeinheit
ATTACH;FMTTYPE=image/jpeg:https://kath-kirche-badsaulgau.de/wp-content/uploads/2025/04/Kruezweg-2025.jpg
END:VEVENT
BEGIN:VEVENT
DTSTART;TZID=Europe/Berlin:20250418T110000
DTEND;TZID=Europe/Berlin:20250418T120000
DTSTAMP:20260421T171149
CREATED:20250325T095120Z
LAST-MODIFIED:20250325T095347Z
UID:31455-1744974000-1744977600@kath-kirche-badsaulgau.de
SUMMARY:Kinderkreuzweg
DESCRIPTION:Am Karfreitag\, 18. April 2025 findet um 11:00 Uhr in der Pfarrkirche St. Georg Renhardsweiler ein Kinderkreuzweg mit kindgerechten Bildern und Musik\, für Kinder im Grundschulalter statt (jüngere und ältere Kinder sind ebenfalls willkommen).
URL:https://kath-kirche-badsaulgau.de/event/kinderkreuzweg
CATEGORIES:Renhardsweiler
ATTACH;FMTTYPE=image/jpeg:https://kath-kirche-badsaulgau.de/wp-content/uploads/2025/03/Kreuzweg-RW.jpg
END:VEVENT
END:VCALENDAR