BEGIN:VCALENDAR
VERSION:2.0
PRODID:-//Seelsorgeeinheit Bad Saulgau - ECPv6.11.1//NONSGML v1.0//EN
CALSCALE:GREGORIAN
METHOD:PUBLISH
X-WR-CALNAME:Seelsorgeeinheit Bad Saulgau
X-ORIGINAL-URL:https://kath-kirche-badsaulgau.de
X-WR-CALDESC:Veranstaltungen für Seelsorgeeinheit Bad Saulgau
REFRESH-INTERVAL;VALUE=DURATION:PT1H
X-Robots-Tag:noindex
X-PUBLISHED-TTL:PT1H
BEGIN:VTIMEZONE
TZID:Europe/Berlin
BEGIN:DAYLIGHT
TZOFFSETFROM:+0100
TZOFFSETTO:+0200
TZNAME:CEST
DTSTART:20240331T010000
END:DAYLIGHT
BEGIN:STANDARD
TZOFFSETFROM:+0200
TZOFFSETTO:+0100
TZNAME:CET
DTSTART:20241027T010000
END:STANDARD
END:VTIMEZONE
BEGIN:VEVENT
DTSTART;VALUE=DATE:20241115
DTEND;VALUE=DATE:20250101
DTSTAMP:20260425T174559
CREATED:20241118T070625Z
LAST-MODIFIED:20241118T070625Z
UID:30097-1731628800-1735689599@kath-kirche-badsaulgau.de
SUMMARY:Schatz-Zeiten- Adventsheilige entdecken
DESCRIPTION:Die „Schatz-Zeiten“ gehen in die nächste Runde. In der St. Johanneskirche werdet ihr immer wieder Heilige der Advents-und Weihnachtszeit begegnen. Heilige fühlen sich mit Gott besonders verbunden und bringen ihn und seine Botschaft zu den Menschen. Durch ihr Leben und Handeln sind sie Vorbilder für uns.\n15. 11. Hl. Martin – Mantelteiler (Abholstation) \n19.11. Hl. Elisabeth – Menschenfreundin (Abholstation) \n04.12. Hl. Barbara – Mutmacherin (14:30-16:00 Uhr mit Aktion) \n13.12. Hl. Luzia – Lichtträgerin (14:30-16:00 Uhr mit Aktion) \n18.12. Hl. Familie und Engel – Wohnungsbereiter (14:30-16:00 Uhr mit Aktion) \n31.12 Hl. Silvester –Friedenspapst (Abholstation) \nWir freuen uns auf Euch -Das Schatzzeiten Team \nSr. Angela Maria\, Birgit Möhrle\, Valentina Falcicchio
URL:https://kath-kirche-badsaulgau.de/event/schatz-zeiten-adventsheilige-entdecken
CATEGORIES:Bad Saulgau,Bolstern,Braunenweiler,Friedberg,Fulgenstadt,Hochberg,Moosheim,Renhardsweiler,Seelsorgeeinheit,Sießen,Wolfartsweiler
ATTACH;FMTTYPE=image/jpeg:https://kath-kirche-badsaulgau.de/wp-content/uploads/2024/11/Schatzzeit-AdventsheiligeHP.jpg
END:VEVENT
BEGIN:VEVENT
DTSTART;TZID=Europe/Berlin:20241115T170000
DTEND;TZID=Europe/Berlin:20241115T230000
DTSTAMP:20260425T174559
CREATED:20241113T072350Z
LAST-MODIFIED:20241113T072350Z
UID:30037-1731690000-1731711600@kath-kirche-badsaulgau.de
SUMMARY:Bad Saulgau leuchtet
DESCRIPTION:Am Freitag\, dem 15.11.2023 beteiligt sich unser Pastoralteam und Mitglieder des Kirchengemeinderats Bad Saulgau an der Aktion „Bad Saulgau leuchtet“. Die Stadtpfarrkirche ist von 17:00 Uhr – 23:00 Uhr geöffnet und immer zur vollen Stunde wird ein geistlicher Impuls gehalten (10 min.). Dazwischen gibt es ein offenes Angebot in der von außen und innen beleuchteten Stadtpfarrkirche mit Licht\, Kerzen\, Weihrauch\, Musik\, dem Wort Gottes und Gelegenheit zu Gesprächen oder auch zum Empfang des Sakraments der Versöhnung. Abschluss und Segen sind um 23:00 Uhr. \nHerzliche Einladung im Lauf des Abends einmal vorbeizuschauen!
URL:https://kath-kirche-badsaulgau.de/event/bad-saulgau-leuchtet-2
CATEGORIES:Bad Saulgau,Seelsorgeeinheit
ATTACH;FMTTYPE=image/jpeg:https://kath-kirche-badsaulgau.de/wp-content/uploads/2024/11/Bad-Saulgau-leuchtet-2024-Ausschnitt-HP.jpg
END:VEVENT
END:VCALENDAR