BEGIN:VCALENDAR
VERSION:2.0
PRODID:-//Seelsorgeeinheit Bad Saulgau - ECPv6.11.1//NONSGML v1.0//EN
CALSCALE:GREGORIAN
METHOD:PUBLISH
X-WR-CALNAME:Seelsorgeeinheit Bad Saulgau
X-ORIGINAL-URL:https://kath-kirche-badsaulgau.de
X-WR-CALDESC:Veranstaltungen für Seelsorgeeinheit Bad Saulgau
REFRESH-INTERVAL;VALUE=DURATION:PT1H
X-Robots-Tag:noindex
X-PUBLISHED-TTL:PT1H
BEGIN:VTIMEZONE
TZID:Europe/Berlin
BEGIN:DAYLIGHT
TZOFFSETFROM:+0100
TZOFFSETTO:+0200
TZNAME:CEST
DTSTART:20240331T010000
END:DAYLIGHT
BEGIN:STANDARD
TZOFFSETFROM:+0200
TZOFFSETTO:+0100
TZNAME:CET
DTSTART:20241027T010000
END:STANDARD
END:VTIMEZONE
BEGIN:VEVENT
DTSTART;TZID=Europe/Berlin:20241108T140000
DTEND;TZID=Europe/Berlin:20241110T100000
DTSTAMP:20260425T175427
CREATED:20241017T093539Z
LAST-MODIFIED:20241021T144508Z
UID:29743-1731074400-1731232800@kath-kirche-badsaulgau.de
SUMMARY:"frisch Wind "- Ökumenische KinderBibelTage
DESCRIPTION:08.-November 2024 14:00-17:00 Uhr (Evang. Gemeindehaus\, Gutenbergstr. 49)\,\n09.November 2024 10:00-17:00 Uhr (Evang. Gemeindehaus)\,\n10. November 2024 10:00 Uhr (Evang. Christuskirche) \nFür Kinder von 5-13 Jahren \nEs erwarten dich Spiel und Spaß\, tolle Geschichten\, basteln\, singen und Gemeinschaft. \nBitte Anmeldung per E-Mail: Name\, Alter\, Name und E-Mail der Eltern\, Notfallnummer\, Unverträglichkeiten\, Rührkuchen für Samstag: ja oder nein. Fotos\, die an den KinderBibelTagen gemacht werden\, dürfen im Gemeindebrief und in den Sozialen Medien beider Kirchengemeinden veröffentlicht werden: ja oder nein. \nUnkostenbeitrag: 7 Euro \nMail entweder an  gemeindebuero.bad-saulgau@elkw.de oder  StJohannes.BadSaulgau@drs.de \nEvangelische Kirchengemeinde Bad Saulgau und Seelsorgeeinheit Sankt Johannes Baptist Bad Saulgau \nPfr. Christoph Schweikle\, Sr. Angela Maria Jäger und Team \nHier gehts zum Flyer (Vorderseite) \nFlyer (Rückseite) \n 
URL:https://kath-kirche-badsaulgau.de/event/frisch-wind-oekumenische-kinderbibeltage
CATEGORIES:Bad Saulgau,Bolstern,Braunenweiler,Friedberg,Fulgenstadt,Hochberg,Moosheim,Renhardsweiler,Seelsorgeeinheit,Sießen,Wolfartsweiler
ATTACH;FMTTYPE=image/jpeg:https://kath-kirche-badsaulgau.de/wp-content/uploads/2024/10/Bild2-frisch-wind-KinderbibeltageHP.jpg
END:VEVENT
END:VCALENDAR